BEGIN:VCALENDAR
VERSION:2.0
BEGIN:VEVENT
URL:https://www.networkinaction.com/index.php/events/viewevent/12807-washington-business-builders?groupid=275 
DTSTART:20230711T080000
DTEND:20230711T093000
SUMMARY:Washington Business Builders
DESCRIPTION:🌟✨ Are you an introvert looking to connect, but don't like networking and feeling uncomfortable? ❓😟

🌐 Want to join a networking community that is not a full-time job? ❓🤝

🚀 Do you want to connect with entrepreneurs who are truly the best in their industries? ❓👑

🤝 Are you looking to surround yourself with like-minded peers who get results? ❓💼

Then NIA is for you! We create meaningful strategic connections that will help you grow and scale your business. 💪💼✨ We would love to see you there! 💼🌟

💡 Our mastermind community is for scale-focused entrepreneurs and CEOs motivated by results, committed to growth, willing to be engaged, and support others to scale their business and yours as well. Join us for an incredible journey of growth and success! 🚀💼💥

🍽️ Lite bites and refreshments will be provided. Come and enjoy! 🍔🥤😋
LOCATION:Casa Tequila | 225 Division St, Grandview, WA 98930
END:VEVENT
END:VCALENDAR