BEGIN:VCALENDAR
VERSION:2.0
BEGIN:VEVENT
URL:https://www.networkinaction.com/index.php/events/viewevent/12755-virtual-group-meet-greet?groupid=286 
DTSTART:20230712T160000
DTEND:20230712T170000
SUMMARY:Virtual Group Meet & Greet 
DESCRIPTION:<p>Our group is not quite ready to launch just yet, however we are on track for August. While I am diligently working on adding our other founding members, I would like all of us to meet and get to know each other so we can start seeing how we can help each other grow! This will be a Zoom Meeting and attendance is required. I want to also discuss what you need from me! Looking forward to getting to know you all a little better. </p><p>Meeting ID: 914 965 5512
</p><p>Passcode: To7Ric4Fid
</p><br />

LOCATION:https://us06web.zoom.us/j/9149655512?pwd=RG1sOUF4SlNTRVpSU2NXczZWVTl2QT09
END:VEVENT
END:VCALENDAR