BEGIN:VCALENDAR
VERSION:2.0
BEGIN:VEVENT
URL:https://www.networkinaction.com/index.php/events/viewevent/12754-network-with-the-nations?groupid=286 
DTSTART:20230705T130000
DTEND:20230705T143000
SUMMARY:Network with the Nations 
DESCRIPTION:<p>Join us for NIA's nationwide networking opportunity. This month-to-month event is available to all NIA members, no matter where you are on the map. Join us for the chance to connect with professionals looking to network outside their locality.</p>
LOCATION:www.zoomwithnia.com
END:VEVENT
END:VCALENDAR