BEGIN:VCALENDAR
VERSION:2.0
BEGIN:VEVENT
URL:https://www.networkinaction.com/index.php/events/viewevent/12751-axe-throwing?groupid=237 
DTSTART:20230630T193000
DTEND:20230630T203000
SUMMARY:Axe Throwing
DESCRIPTION:<p>Our fifth-Friday fun night will be Axe Throwing this month! I've booked us Lane 7, so we're all in one spot. It's about $35/person if you want to pitch in. Wear closed-toe shoes and come ready for fun!</p>If more than 4 of us are interested in attending, let me know and I'll book another lane for us. :)<br />
LOCATION:Rough Cut Social, 1100 Northern Pacific Ave Suite 102, Fargo, ND 58102
END:VEVENT
END:VCALENDAR