BEGIN:VCALENDAR
VERSION:2.0
BEGIN:VEVENT
URL:https://www.networkinaction.com/index.php/events/viewevent/12672-lunch-refresh?groupid=237 
DTSTART:20230623T113000
DTEND:20230623T123000
SUMMARY:Lunch & Refresh
DESCRIPTION:<p>Connection happens best over food! So let's get together and share some together. There will likely be limited space, so please RSVP sooner rather than later so I can communicate with the diner accurately. This is a member-only event, so no guests, just us!</p>
LOCATION:Thaikota, 1201 1st Ave N, Fargo, ND 58102
END:VEVENT
END:VCALENDAR