BEGIN:VCALENDAR
VERSION:2.0
BEGIN:VEVENT
URL:https://www.networkinaction.com/index.php/events/viewevent/12647-networking-event-north-metro-fridley?groupid=339 
DTSTART:20230629T150000
DTEND:20230629T180000
SUMMARY:Networking Event North Metro - Fridley
DESCRIPTION:<p>Event is at Wild Things Antique Mall and The Clapping Monkey House of Coffee</p><p>Food truck on site, opportunity to put up a booth, grab a coffee and tour the mall, great space to collaborate. This is the home for NIA fridley group. Please come check it out and invite others. </p><p>Please share this eventbrite link and lets make this a huge success for all of us.<br /></p><p>https://www.eventbrite.com/e/646995941277</p><p><br /></p>
LOCATION:The Clapping Monkey House of Coffee 7270 Commerce Circle E Fridley MN 55432
END:VEVENT
END:VCALENDAR