BEGIN:VCALENDAR
VERSION:2.0
BEGIN:VEVENT
URL:https://www.networkinaction.com/index.php/events/viewevent/12641-nia-member-event-blaine-health-and-wellness-center?groupid=339 
DTSTART:20230620T070000
DTEND:20230620T083000
SUMMARY:NIA Member Event Blaine Health and Wellness Center
DESCRIPTION:<p>North Oaks NIA Member Dr. Brian Lund is hosting a coffee mixer Tuesday, June 20th 7-8:30am. All NIA Members are invited. You can bring a guest as well.</p><p>Dr Brian Lund will give a tour of his wellness center as well as spotlight Red Light Slim Technology. Great non invasive treatment for skin rejuvenation and fat loss. Morning snacks and coffee is available.</p>Please RSVP to Angela how many people are coming with you.
LOCATION:Blaine Health and Wellness Center 1630 101st Ave NE Blaine MN 55449
END:VEVENT
END:VCALENDAR