BEGIN:VCALENDAR
VERSION:2.0
BEGIN:VEVENT
URL:https://www.networkinaction.com/index.php/events/viewevent/12635-happy-hour-willy-mccoys-nia-members-and-guests?groupid=339 
DTSTART:20230711T150000
DTEND:20230711T170000
SUMMARY:Happy Hour Willy McCoys NIA Members and Guests
DESCRIPTION:<p>Join in with other NIA Members and visitors to open networking Happy Hour at Willy McCoys in Andover. Please invite others to join in... I will be putting it on Eventbrite. NIA Members will get a complimentary drink and some appetizers. </p><br /><p>We will meet in the bar or outside, wherever we can take over the space.</p><br /><p>Please RSVP so I know you are coming and I will bring your name tag.</p>
LOCATION:Willy McCoys Bar & Grill 13655 Martin St NW Andover MN 55304
END:VEVENT
END:VCALENDAR