BEGIN:VCALENDAR
VERSION:2.0
BEGIN:VEVENT
URL:https://www.networkinaction.com/index.php/events/viewevent/12578-june-monthly-meeting?groupid=11 
DTSTART:20230615T160000
DTEND:20230615T173000
SUMMARY:June Monthly Meeting
DESCRIPTION:NIA Cypress June Monthly Meeting!  Celebrate the arrival of two new members and summer! Join us for our usual lively discussion and introduction of new members!  Back to our old favorite, D'Vine Wine Bar for fellowship, light bites and refreshments! RSVP Rich (713)705-6095.
LOCATION:D'Vine Wine Bar, 25202 Northwest Freeway, Cypress, TX 77429
END:VEVENT
END:VCALENDAR