BEGIN:VCALENDAR
VERSION:2.0
BEGIN:VEVENT
URL:https://www.networkinaction.com/index.php/events/viewevent/12557-vbf-june-meeting?groupid=147 
DTSTART:20230608T150000
DTEND:20230608T163000
SUMMARY:VBF June Meeting
DESCRIPTION:<p>It's time for our June meeting. We have a great meeting planned that will help you increase your sales by understanding your prospects' buying styles; you will want to be there.  I look forward to seeing you there.</p>
LOCATION:VFW Post 8790, Spring Branch, 1560 Veterans of Foreign Wars Wy, Houston, TX 77055
END:VEVENT
END:VCALENDAR