BEGIN:VCALENDAR
VERSION:2.0
BEGIN:VEVENT
URL:https://www.networkinaction.com/index.php/events/viewevent/12556-wbf-june-meeting?groupid=77 
DTSTART:20230613T150000
DTEND:20230613T163000
SUMMARY:WBF June Meeting
DESCRIPTION:<p>It's time for our June meeting. We have a great meeting planned that will help you increase your sales by understanding your prospects' buying styles; you will want to be there.  I look forward to seeing you there.</p>
LOCATION:Saltgrass Steakhouse, 8943 Katy Fwy, Houston, TX 77024
END:VEVENT
END:VCALENDAR