BEGIN:VCALENDAR
VERSION:2.0
BEGIN:VEVENT
URL:https://www.networkinaction.com/index.php/events/viewevent/12544-yakima-networking?groupid=215 
DTSTART:20230614T150000
DTEND:20230614T163000
SUMMARY:Yakima Networking
DESCRIPTION:<p>Build trust and cultivate meaningful relationships. Robert Lewis will be talking about the law and how to know if your contract is legally binding. The information may surprise you!</p><p><br /></p>

















LOCATION:Fuego, 420 S 48th Ave., Yakima, WA
END:VEVENT
END:VCALENDAR