BEGIN:VCALENDAR
VERSION:2.0
BEGIN:VEVENT
URL:https://www.networkinaction.com/index.php/events/viewevent/12543-yakima-nia-meeting?groupid=249 
DTSTART:20230614T070000
DTEND:20230614T083000
SUMMARY:Yakima NIA Meeting
DESCRIPTION:<p>Build trust and cultivate meaningful relationships, you can take your career or business to the next level and gain valuable connections that can help you achieve your goals. So, don't wait any longer and start building your network today!
</p><p><br /></p>

















LOCATION:Le Mercantile, 218 W Yakima Ave, Yakima, WA 98902
END:VEVENT
END:VCALENDAR