BEGIN:VCALENDAR
VERSION:2.0
BEGIN:VEVENT
URL:https://www.networkinaction.com/index.php/events/viewevent/12538-tri-cities-networking?groupid=249 
DTSTART:20230613T150000
DTEND:20230613T163000
SUMMARY:Tri-Cities Networking
DESCRIPTION:<p>Networking is important to having a better reputation in the community, increase visibility, a stronger support network, improved business growth, and receive more impactful connections.</p>
LOCATION:Crepe Haus + El Compadre, 2100 N Belfair St, Kennewick, WA 99336
END:VEVENT
END:VCALENDAR