BEGIN:VCALENDAR
VERSION:2.0
BEGIN:VEVENT
URL:https://www.networkinaction.com/index.php/events/viewevent/12531-lower-valley-meeting?groupid=307 
DTSTART:20230613T080000
DTEND:20230613T093000
SUMMARY:Lower Valley Meeting
DESCRIPTION:<p>Networking is important to having a better reputation in the community, increase visibility, a stronger support network, improved business growth, and receive more impactful connections.</p>
LOCATION:Casa Tequila, 225 Division St, Grandview, WA 98930
END:VEVENT
END:VCALENDAR