BEGIN:VCALENDAR
VERSION:2.0
BEGIN:VEVENT
URL:https://www.networkinaction.com/index.php/events/viewevent/12522-cy-fair-connectors-july-meeting?groupid=12 
DTSTART:20230718T150000
DTEND:20230718T163000
SUMMARY:Cy-Fair Connectors July Meeting
DESCRIPTION:
LOCATION:World of Beer, 9945 Barker Cypress Rd., Cypress, 77433
END:VEVENT
END:VCALENDAR