BEGIN:VCALENDAR
VERSION:2.0
BEGIN:VEVENT
URL:https://www.networkinaction.com/index.php/events/viewevent/12515-next-level-networking?groupid=236 
DTSTART:20230606T160000
DTEND:20230606T180000
SUMMARY:Next Level Networking
DESCRIPTION:This is an Alignable event that is open to public. Are you ready to open the doors to endless opportunities?
LOCATION:Tagaris Winery, 844 Tulip Lane, Richland, WA
END:VEVENT
END:VCALENDAR