BEGIN:VCALENDAR
VERSION:2.0
BEGIN:VEVENT
URL:https://www.networkinaction.com/index.php/events/viewevent/12510-lunch-refresh?groupid=237 
DTSTART:20230526T113000
DTEND:20230526T123000
SUMMARY:Lunch & Refresh
DESCRIPTION:<p>Connection happens best over food! So let's get together and share some together. There will likely be limited space, so please RSVP sooner rather than later so I can communicate with the diner accurately. This is a member-only event, so no guests, just us!</p>
LOCATION:Mahana Fresh, 3985 56th St S Unit F, Fargo, ND 58104
END:VEVENT
END:VCALENDAR