BEGIN:VCALENDAR
VERSION:2.0
BEGIN:VEVENT
URL:https://www.networkinaction.com/index.php/events/viewevent/12481-golf-business-networking-extravaganza?groupid=195 
DTSTART:20230628T150000
DTEND:20230628T173000
SUMMARY:Golf & Business Networking Extravaganza
DESCRIPTION:Here is the link for the Top Golf event with the NIA Eastside chapters.  

Please sign up as soon as you can as seat are limited.  

I look forward to seeing you all at your meeting in June and this fun event.  

https://www.eventbrite.com/e/640738996587
LOCATION:Top Golf Renton
END:VEVENT
END:VCALENDAR