BEGIN:VCALENDAR
VERSION:2.0
BEGIN:VEVENT
URL:https://www.networkinaction.com/index.php/events/viewevent/12477-6-30-to-10-30-talley-s-going-away-party?groupid=1 
DTSTART:20230527T183000
DTEND:20230527T184500
SUMMARY:6:30 to 10:30 Talley's Going Away Party 
DESCRIPTION:<p>Last chance for 12 months for me to remind you to get a sub, go on a one to one and pass referrals! Join us for a festive time with a great DJ spinning your favorite tunes. Bring you dancing shoes!  </p><br />This is a family affair, so please bring your significant others and kids are welcome as well. 
LOCATION:Spanish Flower restaurant 903 Durham 
END:VEVENT
END:VCALENDAR