BEGIN:VCALENDAR
VERSION:2.0
BEGIN:VEVENT
URL:https://www.networkinaction.com/index.php/events/viewevent/12454-wine-networking-for-entrepreneurs?groupid=286 
DTSTART:20230615T163000
DTEND:20230615T180000
SUMMARY:Wine & Networking for Entrepreneurs 
DESCRIPTION:<p>A﻿t Network in Action, we network differently. Our main goal is to hand pick our members by finding entrepreneurs & decision makers who are determined to step up their networks, build relationships and grow their business in different ways. We are a Business Development focused Networking group and meet once a month to mastermind and build ideas off of each other.
</p>
<p>O﻿ur meetings are run by professional leaders, not volunteers and we conduct background checks and Business Assessments on all our members. Our state-of-the-art technology allows sending and receiving referrals easier and we offer additional tools to help you and your business grow. We hold meetings once a month, allowing our members more time to grow their business and focus on creating meaningful relationships.
</p><p>N﻿etwork in Action has franchises all over the U.S., Canada & Guyana, allowing members who can do business Nationwide & Internationally the chance to connect and create relationships with other members.
</p><p>C﻿ome check us out, experience the NIA difference, and let us show you a new way to Network.</p>


LOCATION:Blue Rooster 331Hwy 410 S Buckley, WA 98321
END:VEVENT
END:VCALENDAR