BEGIN:VCALENDAR
VERSION:2.0
BEGIN:VEVENT
URL:https://www.networkinaction.com/index.php/events/viewevent/12451-networking-in-the-21st-century-invite-your-guests?groupid=323 
DTSTART:20230614T084500
DTEND:20230614T093000
SUMMARY:Networking in the 21st Century - Invite Your Guests!
DESCRIPTION:Networking in the 21st Century
LOCATION:https://us02web.zoom.us/meeting/register/tZcrdO2orT8uGNay2z9V0sAIvJVVYoELfM2c 
END:VEVENT
END:VCALENDAR