BEGIN:VCALENDAR
VERSION:2.0
BEGIN:VEVENT
URL:https://www.networkinaction.com/index.php/events/viewevent/12450-regional-mixer?groupid=249 
DTSTART:20230525T170000
DTEND:20230525T190000
SUMMARY:Regional Mixer
DESCRIPTION:An opportunity to get to know each other better. Please rsvp by responding to this invite.
LOCATION:26A, 32 North 2nd Street in Yakima
END:VEVENT
END:VCALENDAR