BEGIN:VCALENDAR
VERSION:2.0
BEGIN:VEVENT
URL:https://www.networkinaction.com/index.php/events/viewevent/12441-may-monthly-meeting?groupid=11 
DTSTART:20230518T160000
DTEND:20230518T173000
SUMMARY:May Monthly Meeting
DESCRIPTION:May 2023 marks the beginning of our journey in our 8th year of NIA - Cypress!  Join us to celebrate, greet new members and guests. Our "Core Values" agenda always elicits unique perspectives from our dynamic members! RSVP to Rich. (713)705-6095 Refreshments provided!  
LOCATION:BBs Tex-Orleans, 26010 Hempstead Hwy, Cypress, TX 44429
END:VEVENT
END:VCALENDAR