BEGIN:VCALENDAR
VERSION:2.0
BEGIN:VEVENT
URL:https://www.networkinaction.com/index.php/events/viewevent/12395-cy-fair-connectors-june-meeting?groupid=12 
DTSTART:20230620T150000
DTEND:20230620T163000
SUMMARY:CY-Fair Connectors June Meeting
DESCRIPTION:
LOCATION:World of Beer, 9945 Barker Cypress Rd., Cypress, 77433
END:VEVENT
END:VCALENDAR