BEGIN:VCALENDAR
VERSION:2.0
BEGIN:VEVENT
URL:https://www.networkinaction.com/index.php/events/viewevent/12360-nia-city-wide-mixer-on-may-25th-at-the-kirby-ice-house-on-gessner 
DTSTART:20230525T153000
DTEND:20230525T180000
SUMMARY:NIA City-Wide Mixer on May 25th at the Kirby Ice House on Gessner!
DESCRIPTION:<p>Are you ready to mix and mingle with some of the most brilliant minds in the city? Yes, that’s right… It’s YOU!  Join us for the NIA City-Wide Mixer on May 25th at the Kirby Ice House on Gessner!</p><br /><p>Get ready for an evening of great connections as we bring together the best and brightest from all over the city. Whether you're a seasoned entrepreneur, an up-and-coming professional, or just looking to expand your network, this event is not to be missed.</p><br /><p>At the NIA City-Wide Mixer, you'll have the opportunity to connect with like-minded individuals, share ideas, and discover new opportunities. Plus, with fantastic food, drinks, and music, the atmosphere will be electric.</p><br /><p>So, mark your calendars and get ready to make some amazing connections. The NIA City-Wide Mixer on May 25th at the Kirby Ice House on Gessner is where you need to be. Don't miss out!</p>
LOCATION:1015 Gessner Road
END:VEVENT
END:VCALENDAR