BEGIN:VCALENDAR
VERSION:2.0
BEGIN:VEVENT
URL:https://www.networkinaction.com/index.php/events/viewevent/12355-vbf-may-meeting?groupid=147 
DTSTART:20230511T150000
DTEND:20230511T163000
SUMMARY:VBF May Meeting
DESCRIPTION:<p>It's time for our May meeting. We have a great meeting planned and you will want to be there.  Remember, if you cannot make the meeting, you are required to send a substitute to be there in your place.  I look forward to seeing all of you on Thursday.</p>
LOCATION:VFW Post 8790, Spring Branch, 1560 Veterans of Foreign Wars Wy, Houston, TX 77055
END:VEVENT
END:VCALENDAR