BEGIN:VCALENDAR
VERSION:2.0
BEGIN:VEVENT
URL:https://www.networkinaction.com/index.php/events/viewevent/12354-wbf-may-meeting?groupid=77 
DTSTART:20230509T150000
DTEND:20230509T163000
SUMMARY:WBF May Meeting
DESCRIPTION:<p>It's time for our May meeting. We have a great meeting planned and you will want to be there.  Remember, if you cannot make the meeting, you are required to send a substitute to be there in your place.  I look forward to seeing all of you on Tuesday.</p>
LOCATION:Saltgrass Steakhouse, 8943 Katy Fwy, Houston, TX 77024
END:VEVENT
END:VCALENDAR