BEGIN:VCALENDAR
VERSION:2.0
BEGIN:VEVENT
URL:https://www.networkinaction.com/index.php/events/viewevent/12352-next-level-networking?groupid=237 
DTSTART:20230517T140000
DTEND:20230517T153000
SUMMARY:Next Level Networking
DESCRIPTION:<p><i>2:00 PM - 2:15 PM</i></p><br /><p><b>Meet & Greet</b></p><p>Casual mingling and ordering drinks (first one is on us!)</p><br /><p><i>2:15 PM - 2:30 PM</i></p><br /><p><b>Intro to Relationship-Focused Networking</b></p><p>Learn practical principles for strategically and reliably building authentic relationships for both personal and business success!</p><br /><p><i>2:30 PM - 3:00 PM</i></p><br /><p><b>Speed Connections</b></p><p>Rotate through small-group conversations with meaningful questions to help spark authentic connections with each other (no elevator pitches!)</p><br /><p><i>3:00 PM - 3:30 PM</i></p><br /><p><b>Networking Strategy Mastermind</b></p><p>Join in a professionally facilitated collaborative discussion to help you develop your ideal support network for life and work!</p>
LOCATION:Blarney Stone Pub, 1910 9th St E, West Fargo, ND 58078
END:VEVENT
END:VCALENDAR