BEGIN:VCALENDAR
VERSION:2.0
BEGIN:VEVENT
URL:https://www.networkinaction.com/index.php/events/viewevent/12332-lakeway-bee-cave-meeting?groupid=152 
DTSTART:20230614T150000
DTEND:20230614T163000
SUMMARY:Lakeway/Bee Cave Meeting
DESCRIPTION:
LOCATION:The League - 13420 Galleria Circle, Suite A-128, Bee Cave, TX (Hill Country Galleria Location!!)
END:VEVENT
END:VCALENDAR