BEGIN:VCALENDAR
VERSION:2.0
BEGIN:VEVENT
URL:https://www.networkinaction.com/index.php/events/viewevent/12331-bee-cave-lakeway-monthly-meeting?groupid=185 
DTSTART:20230614T150000
DTEND:20230614T163000
SUMMARY:Bee Cave/Lakeway Monthly Meeting
DESCRIPTION:
LOCATION:The League - 13420 Galleria Circle, Suite A-128, Bee Cave, TX (Hill Country Galleria Location!!)
END:VEVENT
END:VCALENDAR