BEGIN:VCALENDAR
VERSION:2.0
BEGIN:VEVENT
URL:https://www.networkinaction.com/index.php/events/viewevent/12328-nia-veterans-business-force-national-building-networking-connections?groupid=208 
DTSTART:20230522T130000
DTEND:20230522T143000
SUMMARY:NIA Veterans Business Force National - Building Networking Connections
DESCRIPTION:<p>Network In Action Veterans Business Force National is excited to announce the formation of a new networking group exclusively for military and veteran business owners like you! This group is aimed at bringing together a community of like-minded individuals who have served our country and are now committed to growing their businesses.
</p>
<p>We believe that as military veterans, you bring unique skills, qualities, and experiences to the business world. By joining our networking group, you'll have the opportunity to connect with other veteran business owners, share ideas, and collaborate on projects that help you take your business to the next level.
</p><p>We are category exclusive and seeking successful business owners and professionals who want to grow their businesses through networking in the company of other veterans.
</p><p>We offer more value to our members than any networking group out there and are revolutionizing the business networking industry.
</p><p>We also offer you a guaranteed return on your investment, plus much more!
</p><p>Join us and let us help you grow your business.</p>




LOCATION:Zoom
END:VEVENT
END:VCALENDAR