BEGIN:VCALENDAR
VERSION:2.0
BEGIN:VEVENT
URL:https://www.networkinaction.com/index.php/events/viewevent/12303-unleash-your-business-potential-master-delegation-automation-today?groupid=264 
DTSTART:20230523T113000
DTEND:20230523T130000
SUMMARY:Unleash Your Business Potential: Master Delegation & Automation Today!
DESCRIPTION:As a small business owner, you have a lot on your plate. You want to grow your business, but you may be struggling to find the time, energy, and resources to do so. One of the biggest challenges many small business owners face is delegation and automation.

Trust, time, control, technology, and cost are just a few of the frustrations that small business owners often experience when it comes to delegation and automation. But with the right strategies and mindset, delegation and automation can be powerful tools for growing your business and achieving the work-life balance you deserve.

Join Sari Kimbell and Cade Hanson for an engaging workshop that will help you overcome these frustrations and take your business to the next level. Learn practical approaches to effective delegation and automation, hear success stories from the presenters and other successful business owners, and equip yourself with real-world knowledge and actionable steps to revolutionize your workflow and transform your business.

This interactive workshop is perfect for small business owners who are ready to let go of the reins and empower their team, streamline their processes, and achieve more with less effort. Don't miss out on this opportunity to take control of your business and unleash your full potential!
LOCATION:Mile High Coworking Space Denver | Coworking Denver | Office Space Denver | Shared Office Denver 1616 Federal Boulevard Denver, CO 80204
END:VEVENT
END:VCALENDAR