BEGIN:VCALENDAR
VERSION:2.0
BEGIN:VEVENT
URL:https://www.networkinaction.com/index.php/events/viewevent/12228-next-level-networking?groupid=286 
DTSTART:20230504T163000
DTEND:20230504T180000
SUMMARY:Next Level Networking 
DESCRIPTION:<p>Welcome to our speed networking event, where professionals from various industries come together to make valuable connections in a fast-paced environment. This event is designed to provide attendees with the opportunity to meet and network with a large number of professionals in a short amount of time, all while enjoying light appetizers and a free drink.
</p><p>Guests are welcome! </p><p>Click on our Eventbrite link to register today
</p><p>https://www.eventbrite.com/e/next-level-networking-tickets-619242550137</p>
LOCATION:Blue Rooster  331Hwy 410 S, Buckley, WA 98321
END:VEVENT
END:VCALENDAR