BEGIN:VCALENDAR
VERSION:2.0
BEGIN:VEVENT
URL:https://www.networkinaction.com/index.php/events/viewevent/12226-lakeway-bee-cave-meeting-monthly-meeting?groupid=152 
DTSTART:20230510T150000
DTEND:20230510T163000
SUMMARY:Lakeway/Bee Cave Meeting Monthly Meeting
DESCRIPTION:
LOCATION:The League - 13420 Galleria Circle, Suite A-128, Bee Cave, TX (Hill Country Galleria Location!!)
END:VEVENT
END:VCALENDAR