BEGIN:VCALENDAR
VERSION:2.0
BEGIN:VEVENT
URL:https://www.networkinaction.com/index.php/events/viewevent/12207-monthly-paint-party?groupid=185 
DTSTART:20230517T173000
DTEND:20230517T183000
SUMMARY:Monthly Paint Party 
RRULE:FREQ=MONTHLY;UNTIL=20240417T000000
DESCRIPTION:<p><a href="https://www.eventbrite.com/e/paint-wine-party-tickets-605275905527?utm-campaign=social&utm-content=attendeeshare&utm-medium=discovery&utm-term=listing&utm-source=cp&aff=escb" title="Eventbrite">Eventbrite Link</a><a href="https://www.eventbrite.com/e/paint-wine-party-tickets-605275905527?utm-campaign=social&utm-content=attendeeshare&utm-medium=discovery&utm-term=listing&utm-source=cp&aff=escb"></a></p><br />I will confirm the Wednesday dates for May , etc.
LOCATION:20308 State Hwy 71  Ste 5  
END:VEVENT
END:VCALENDAR