BEGIN:VCALENDAR
VERSION:2.0
BEGIN:VEVENT
URL:https://www.networkinaction.com/index.php/events/viewevent/12165-nia-city-wide-mixer 
DTSTART:20230427T153000
DTEND:20230427T173000
SUMMARY:NIA City-Wide Mixer
DESCRIPTION:<p>Do you love our monthly NIA meetings and happy hours? (I know you do!) Want to make even MORE connections, build even MORE relationships, and have even MORE fun??</p><p>Then you won’t want to miss the upcoming city-wide NIA mixer for all Houston NIA groups, owners, members, and guests on April 27 from 3:30-5:30pm at Kenny & Ziggy's New York Delicatessen.</p><p>It’s going to be a fantastic networking opportunity (and an absolute BLAST), so register today to make sure you get a spot!</p>
LOCATION:1743 Post Oak Blvd, Houston, TX 77056
END:VEVENT
END:VCALENDAR