BEGIN:VCALENDAR
VERSION:2.0
BEGIN:VEVENT
URL:https://www.networkinaction.com/index.php/events/viewevent/12159-entrepreneurs-collaborating-with-the-best-of-the-best-without-volunteering?groupid=275 
DTSTART:20230509T070000
DTEND:20230509T083000
SUMMARY:Entrepreneurs Collaborating With The Best Of The Best Without Volunteering!
DESCRIPTION:<p>We create meaningful strategic connections that will help you grow and scale your business. We would love to see you there. </p><p>Our mastermind community is for scale-focused entrepreneurs and CEOs motivated by results, committed to growth, willing to be engaged and support others to scale their business and yours as well. </p><p>If this sounds interesting, come check us out it'll be fun and you won't be disappointed. Lite bites and first round of drinks are on me!</p><p>🔶 Experience the NIA Difference 🔶</p><p>♦ Monthly Meetings to get focused strategy time to actually work ON your business, distraction FREE</p><p>♦ Professional Leadership dedicated to YOUR SUCCESS!</p>
LOCATION:Le Mercantile, 218 W Yakima Ave, Yakima
END:VEVENT
END:VCALENDAR