BEGIN:VCALENDAR
VERSION:2.0
BEGIN:VEVENT
URL:https://www.networkinaction.com/index.php/events/viewevent/12156-get-known-get-connected-scale-your-business?groupid=275 
DTSTART:20230509T150000
DTEND:20230509T163000
SUMMARY:Get Known, Get Connected, Scale Your Business!
DESCRIPTION:<p>We create meaningful strategic connections that will help you grow and scale your business. We would love to see you there. </p><p>Our mastermind community is for scale-focused entrepreneurs and CEOs motivated by results, committed to growth, willing to be engaged and support others to scale their business and yours as well. </p><p>If this sounds interesting, come check us out it'll be fun and you won't be disappointed. Lite bites and first round of drinks are on me!</p><p>🔶 Experience the NIA Difference 🔶</p><p>♦ Monthly Meetings to get focused strategy time to actually work ON your business, distraction FREE</p><p>♦ Professional Leadership dedicated to YOUR SUCCESS!</p>
LOCATION:Crepe Haus + El Compadre2100 N Belfair St, Kennewick, WA, 99336
END:VEVENT
END:VCALENDAR