BEGIN:VCALENDAR
VERSION:2.0
BEGIN:VEVENT
URL:https://www.networkinaction.com/index.php/events/viewevent/12152-elite-women-in-business-scale-focused-on-results?groupid=249 
DTSTART:20230510T100000
DTEND:20230510T113000
SUMMARY:Elite Women In Business Scale-Focused On Results!
DESCRIPTION:<p>We create meaningful strategic connections that will help you grow and scale your business. We would love to see you there. </p><p>Our mastermind community is for scale-focused entrepreneurs and CEOs motivated by results, committed to growth, willing to be engaged and support others to scale their business and yours as well. </p><p>If this sounds interesting, come check us out you won't be disappointed. Lite bites and refreshments will be provided. </p><p>🔶 Experience the NIA Difference 🔶</p><p>♦ Monthly Meetings to get focused strategy time to actually work ON your business, distraction FREE</p><p>♦ Professional Leadership dedicated to YOUR SUCCESS!</p>
LOCATION:https://zoom.us/j/5095716690
END:VEVENT
END:VCALENDAR