BEGIN:VCALENDAR
VERSION:2.0
BEGIN:VEVENT
URL:https://www.networkinaction.com/index.php/events/viewevent/12151-scale-focused-entrepreneurs-who-get-results-guaranteed?groupid=215 
DTSTART:20230510T150000
DTEND:20230510T163000
SUMMARY:Scale-focused Entrepreneurs Who Get Results, Guaranteed!
DESCRIPTION:<p>❓Are you an introvert looking to connect, but don't networking and feeling uncomfortable?</p><p>❓Want to join a  networking community that is not a full-time Job?</p><p>❓ Do you want to connect with entrepreneurs who are truly best in their industries? </p><p>❓ Are you looking to surround yourself with like-minded peers who get results? </p><p>Then NIA is for you! We create meaningful strategic connections that will help you grow and scale your business. We would love to see you there. </p><p>Our mastermind community is for scale-focused entrepreneurs and CEOs motivated by results, committed to growth, willing to be engaged and support others to scale their business and yours as well. </p><p>If this sounds interesting, come check us out you won't be disappointed. Lite bites and refreshments will be provided. </p><p>🔶 Experience the NIA Difference 🔶</p>
LOCATION:Fuego Margarita Bar, 420 S. 48th Ave. Yakima
END:VEVENT
END:VCALENDAR