BEGIN:VCALENDAR
VERSION:2.0
BEGIN:VEVENT
URL:https://www.networkinaction.com/index.php/events/viewevent/12118-april-coffee-clique 
DTSTART:20230407T070000
DTEND:20230407T100000
SUMMARY:April Coffee Clique
DESCRIPTION:<strong>Favorite Friday of the Month! </strong>Join us for a great breakfast & networking this Friday morning! We have two tables reserved! Open to B2B, Bellaire, Galleia, Memorial Park, WBB, WBN members + guests! Hope you can join us!  
LOCATION:111 N. Post Oak Ln. 
END:VEVENT
END:VCALENDAR