BEGIN:VCALENDAR
VERSION:2.0
BEGIN:VEVENT
URL:https://www.networkinaction.com/index.php/events/viewevent/12051-ever-growing-nia-national-virtual-event-next-level-network?groupid=267 
DTSTART:20230516T120000
DTEND:20230516T133000
SUMMARY:Ever Growing NIA National Virtual Event Next Level Network
RRULE:FREQ=MONTHLY;UNTIL=20231219T000000
DESCRIPTION:<p>Our monthly meeting is where you the professionals gather to make connections, exchange ideas, and build relationships. The goal of this meeting is to increase visibility and build a network of contacts who can offer support, advice, and potential business opportunities. Participants come from various industries and backgrounds and may include entrepreneurs, executives, and business owners. The format of the meeting can vary, but it often includes opportunities for participants to introduce themselves, exchange business cards, and engage in casual conversation. This business networking meeting will provide valuable opportunities for professional growth and development.</p>
LOCATION: Join Zoom Meeting https://us02web.zoom.us/j/6109112022  
END:VEVENT
END:VCALENDAR