BEGIN:VCALENDAR
VERSION:2.0
BEGIN:VEVENT
URL:https://www.networkinaction.com/index.php/events/viewevent/12040-south-king-county-monthly-meeting?groupid=195 
DTSTART:20230411T150000
DTEND:20230411T163000
SUMMARY:South King County Monthly Meeting 
RRULE:FREQ=MONTHLY;UNTIL=20231212T000000
DESCRIPTION:<p>Our monthly meeting is where you the professionals gather to make connections, exchange ideas, and build relationships. The goal of this meeting is to increase visibility and build a network of contacts who can offer support, advice, and potential business opportunities. Participants come from various industries and backgrounds and may include entrepreneurs, executives, and business owners. The format of the meeting can vary, but it often includes opportunities for participants to introduce themselves, exchange business cards, and engage in casual conversation. This business networking meeting will provide valuable opportunities for professional growth and development.</p>
LOCATION:Vino at the Landing 800 N 10th Pl, Renton, WA 98057 
END:VEVENT
END:VCALENDAR