BEGIN:VCALENDAR
VERSION:2.0
BEGIN:VEVENT
URL:https://www.networkinaction.com/index.php/events/viewevent/12025-get-known-get-connected-scale-your-business?groupid=236 
DTSTART:20230411T150000
DTEND:20230411T163000
SUMMARY:Get Known, Get Connected, Scale Your Business!
DESCRIPTION:<p>We create meaningful strategic connections that will help you grow and scale your business. We would love to see you there. </p><p>Our mastermind community is for scale-focused entrepreneurs and CEOs motivated by results, committed to growth, willing to be engaged and support others to scale their business and yours as well. </p><p>If this sounds interesting, come check us out it'll be fun and you won't be disappointed. Lite bites and first round of drinks are on me!</p><p>🔶 Experience the NIA Difference 🔶</p><p>♦ Monthly Meetings to get focused strategy time to actually work ON your business, distraction FREE</p><p>♦ Professional Leadership dedicated to YOUR SUCCESS!</p><p>♦ State of the Art Technology</p><p>♦ Get more 4 and 5 Google reviews</p><p>♦ Access a community of 1700+ members in 100+ groups who work together to scale their businesses</p><p>♦ Guaranteed Return on your Investment</p><p>♦ 24/7 Access to Business Solutions for you and your team</p><p>♦ Exclusive VIP online group where members share and support each other between meetings</p>
LOCATION:Crepe Haus + El Compadre2100 N Belfair St, Kennewick, WA, 99336
END:VEVENT
END:VCALENDAR