BEGIN:VCALENDAR
VERSION:2.0
BEGIN:VEVENT
URL:https://www.networkinaction.com/index.php/events/viewevent/12024-elite-women-in-business-scale-focused-on-results?groupid=249 
DTSTART:20230412T100000
DTEND:20230412T113000
SUMMARY:Elite Women In Business Scale-Focused On Results!
DESCRIPTION:<p>Our mastermind community is for scale-focused entrepreneurs and CEOs motivated by results, committed to growth, willing to be engaged and support others to scale their business and yours as well. </p><p>If this sounds interesting, come check us out you won't be disappointed. Lite bites and refreshments will be provided. </p><p>🔶 Experience the NIA Difference 🔶</p><p>♦ Monthly Meetings to get focused strategy time to actually work ON your business, distraction FREE</p><p>♦ Professional Leadership dedicated to YOUR SUCCESS!</p><p>♦ State of the Art Technology</p><p>♦ Increase Google reviews</p><p>♦  Access a community of 1700+ members in 100+ groups who work together to scale their businesses</p><p>♦ Guaranteed Return on your Investment</p><p>♦ 24/7 Access to Business Solutions for you and your team</p><p>♦ Exclusive VIP online group where members share and support each other between meetings</p>
LOCATION:https://zoom.us/j/5095716690
END:VEVENT
END:VCALENDAR