BEGIN:VCALENDAR
VERSION:2.0
BEGIN:VEVENT
URL:https://www.networkinaction.com/index.php/events/viewevent/12022-cy-fair-connectors-may-meeting?groupid=12 
DTSTART:20230516T150000
DTEND:20230516T163000
SUMMARY:Cy-Fair Connectors May Meeting
DESCRIPTION:
LOCATION:World of Beer, 9945 Barker Cypress Rd., Cypress, 77433
END:VEVENT
END:VCALENDAR