BEGIN:VCALENDAR
VERSION:2.0
BEGIN:VEVENT
URL:https://www.networkinaction.com/index.php/events/viewevent/12021-cy-fair-connectors-april-meeting?groupid=12 
DTSTART:20230418T150000
DTEND:20230418T163000
SUMMARY:Cy-Fair Connectors April Meeting
DESCRIPTION:
LOCATION:World of Beer, 9945 Barker Cypress Rd., Cypress, 77433
END:VEVENT
END:VCALENDAR