BEGIN:VCALENDAR
VERSION:2.0
BEGIN:VEVENT
URL:https://www.networkinaction.com/index.php/events/viewevent/12018-network-in-action-business-solutions-networking-group-member-meeting?groupid=223 
DTSTART:20230614T150000
DTEND:20230614T163000
SUMMARY:Network In Action | Business Solutions & Networking Group | Member Meeting
DESCRIPTION:<p>Network In Action (NIA) brings together a coalition of like-minded business owners and decision-makers who understand the power of networking. Build your business by capitalizing on our state of the art technology and monthly meetings.</p><p>In today’s business climate we accept that networking is the most powerful and cost effective way to grow your business.</p><p>That is the good news. The bad news is most of us simply cannot commit to a weekly meeting. NIA provides practical solutions - monthly meetings, community website, socials and smart phone technology that makes sharing and receiving referrals effortless.</p><p>🔶 Experience the NIA Difference 🔶</p><p>♦ Monthly Meetings</p><p>♦ Professional Leadership</p><p>♦ State of the Art Technology</p><p>♦ Refer with Confidence</p><p>♦ Reputation Management</p><p>♦ Local, Regional and National Connections</p><p>♦ Guaranteed Return on your Investment</p><p>♦ NIA University Business Solutions</p><p>♦ Community Service Commitment</p><br /><p>https://www.networkinaction.com/</p><br /><p>► Spokane | Eastern WA</p><p>► Coeur D'Alene | North ID</p><p>► Virtual Nationwide & Regional option as well!</p><br /><p>Please schedule a quick chat  if you would like to learn more.</p><p>I look forward to meeting you and learning about your business and how I can help! </p><br /><p>https://www.eventbrite.com/e/network-in-action-business-solutions-networking-group-member-meeting-registration-595249586537</p>
LOCATION:3809 S. Grand, Spokane, WA 99223
END:VEVENT
END:VCALENDAR