BEGIN:VCALENDAR
VERSION:2.0
BEGIN:VEVENT
URL:https://www.networkinaction.com/index.php/events/viewevent/11978-network-with-the-nations?groupid=286 
DTSTART:20230505T150000
DTEND:20230505T163000
SUMMARY:Network with the Nations 
RRULE:FREQ=MONTHLY;UNTIL=20240405T000000
DESCRIPTION:
LOCATION:www.zoomwithnia.com
END:VEVENT
END:VCALENDAR